BEGIN:VCALENDAR
VERSION:2.0
PRODID:-//Motorsport Nordjylland - ECPv6.15.17.1//NONSGML v1.0//EN
CALSCALE:GREGORIAN
METHOD:PUBLISH
X-ORIGINAL-URL:https://mnj.dk
X-WR-CALDESC:Begivenheder for Motorsport Nordjylland
REFRESH-INTERVAL;VALUE=DURATION:PT1H
X-Robots-Tag:noindex
X-PUBLISHED-TTL:PT1H
BEGIN:VTIMEZONE
TZID:Europe/Copenhagen
BEGIN:DAYLIGHT
TZOFFSETFROM:+0100
TZOFFSETTO:+0200
TZNAME:CEST
DTSTART:20250330T010000
END:DAYLIGHT
BEGIN:STANDARD
TZOFFSETFROM:+0200
TZOFFSETTO:+0100
TZNAME:CET
DTSTART:20251026T010000
END:STANDARD
BEGIN:DAYLIGHT
TZOFFSETFROM:+0100
TZOFFSETTO:+0200
TZNAME:CEST
DTSTART:20260329T010000
END:DAYLIGHT
BEGIN:STANDARD
TZOFFSETFROM:+0200
TZOFFSETTO:+0100
TZNAME:CET
DTSTART:20261025T010000
END:STANDARD
BEGIN:DAYLIGHT
TZOFFSETFROM:+0100
TZOFFSETTO:+0200
TZNAME:CEST
DTSTART:20270328T010000
END:DAYLIGHT
BEGIN:STANDARD
TZOFFSETFROM:+0200
TZOFFSETTO:+0100
TZNAME:CET
DTSTART:20271031T010000
END:STANDARD
END:VTIMEZONE
BEGIN:VEVENT
DTSTART;TZID=Europe/Copenhagen:20260323T150000
DTEND;TZID=Europe/Copenhagen:20260323T180000
DTSTAMP:20260424T064829
CREATED:20260321T113856Z
LAST-MODIFIED:20260321T114221Z
UID:10000041-1774278000-1774288800@mnj.dk
SUMMARY:Generalforsamling APS
DESCRIPTION:Motorsports Center Nordjylland ApS \nSvenstrup den 10 Februar 2026 \nIndkaldelse til ordinær generalforsamling \n  \nHermed indkaldelse til ordinær generalforsamling i Motorsports Center Nordjylland ApS Mandag den 23 marts kl. 15  på adressen Nysumgårdvej 8 9610 Nørager. \nJfr. Vedtægterne skal indkaldelsen ske med mindst 4 ugers varsel. For god ordens skyld bedes indsigelser mod indkaldelsen meddelt undertegnede inden onsdag den 9 marts 2026 \nDagsorden ifølge vedtægterne: \n\nValg af dirigent.\nDirektionens beretning om selskabets virke i det forløbne år.\nFremlæggelse af årsregnskab til godkendelse.\nBeslutning om anvendelse af overskud eller dækning af tab i henhold til det godkendte regnskab.\nEventuelt forslag til direktionen eller anpartshavere.\nValg af direktion. På valg er Hans Maansen\nValg af revisor.\nEventuel\n\nPå Direktionens vegne. \nSonja Storgaard
URL:https://mnj.dk/kalender/generalforsamling-aps
LOCATION:Nysumbanen\, Nysumgaardvej 8\, Nørager\, Nordjylland\, 9610\, Denmark
CATEGORIES:Aps MSCNJ
END:VEVENT
END:VCALENDAR