BEGIN:VCALENDAR
VERSION:2.0
PRODID:-//Motorsport Nordjylland - ECPv6.15.17.1//NONSGML v1.0//EN
CALSCALE:GREGORIAN
METHOD:PUBLISH
X-ORIGINAL-URL:https://mnj.dk
X-WR-CALDESC:Begivenheder for Motorsport Nordjylland
REFRESH-INTERVAL;VALUE=DURATION:PT1H
X-Robots-Tag:noindex
X-PUBLISHED-TTL:PT1H
BEGIN:VTIMEZONE
TZID:Europe/Copenhagen
BEGIN:DAYLIGHT
TZOFFSETFROM:+0100
TZOFFSETTO:+0200
TZNAME:CEST
DTSTART:20250330T010000
END:DAYLIGHT
BEGIN:STANDARD
TZOFFSETFROM:+0200
TZOFFSETTO:+0100
TZNAME:CET
DTSTART:20251026T010000
END:STANDARD
BEGIN:DAYLIGHT
TZOFFSETFROM:+0100
TZOFFSETTO:+0200
TZNAME:CEST
DTSTART:20260329T010000
END:DAYLIGHT
BEGIN:STANDARD
TZOFFSETFROM:+0200
TZOFFSETTO:+0100
TZNAME:CET
DTSTART:20261025T010000
END:STANDARD
BEGIN:DAYLIGHT
TZOFFSETFROM:+0100
TZOFFSETTO:+0200
TZNAME:CEST
DTSTART:20270328T010000
END:DAYLIGHT
BEGIN:STANDARD
TZOFFSETFROM:+0200
TZOFFSETTO:+0100
TZNAME:CET
DTSTART:20271031T010000
END:STANDARD
END:VTIMEZONE
BEGIN:VEVENT
DTSTART;TZID=Europe/Copenhagen:20260321T100000
DTEND;TZID=Europe/Copenhagen:20260321T150000
DTSTAMP:20260425T141524
CREATED:20260321T111856Z
LAST-MODIFIED:20260321T111856Z
UID:10000036-1774087200-1774105200@mnj.dk
SUMMARY:Kursus for officials med 532 og 530
DESCRIPTION:Kursus for officials med 532 og 530.\n\nAlle med disse licenser skal på kursus\, der må også meget gerne komme ny med.\nTidspunkt: der er 2 datoer at vælge imellem\, nemlig d. 21/3 og 28/3.\nkl. 10 – 15 i Nysum\nTilmelding til Karen Larsen 22579074.\n\n\nDet er meget vigtig at alle som skal være 530 eller 532 i år kommer på kursus.
URL:https://mnj.dk/kalender/kursus-for-officials-med-532-og-530-2
LOCATION:Nysumbanen\, Nysumgaardvej 8\, Nørager\, Nordjylland\, 9610\, Denmark
CATEGORIES:Bane
END:VEVENT
BEGIN:VEVENT
DTSTART;TZID=Europe/Copenhagen:20260323T150000
DTEND;TZID=Europe/Copenhagen:20260323T180000
DTSTAMP:20260425T141524
CREATED:20260321T113856Z
LAST-MODIFIED:20260321T114221Z
UID:10000041-1774278000-1774288800@mnj.dk
SUMMARY:Generalforsamling APS
DESCRIPTION:Motorsports Center Nordjylland ApS \nSvenstrup den 10 Februar 2026 \nIndkaldelse til ordinær generalforsamling \n  \nHermed indkaldelse til ordinær generalforsamling i Motorsports Center Nordjylland ApS Mandag den 23 marts kl. 15  på adressen Nysumgårdvej 8 9610 Nørager. \nJfr. Vedtægterne skal indkaldelsen ske med mindst 4 ugers varsel. For god ordens skyld bedes indsigelser mod indkaldelsen meddelt undertegnede inden onsdag den 9 marts 2026 \nDagsorden ifølge vedtægterne: \n\nValg af dirigent.\nDirektionens beretning om selskabets virke i det forløbne år.\nFremlæggelse af årsregnskab til godkendelse.\nBeslutning om anvendelse af overskud eller dækning af tab i henhold til det godkendte regnskab.\nEventuelt forslag til direktionen eller anpartshavere.\nValg af direktion. På valg er Hans Maansen\nValg af revisor.\nEventuel\n\nPå Direktionens vegne. \nSonja Storgaard
URL:https://mnj.dk/kalender/generalforsamling-aps
LOCATION:Nysumbanen\, Nysumgaardvej 8\, Nørager\, Nordjylland\, 9610\, Denmark
CATEGORIES:Aps MSCNJ
END:VEVENT
BEGIN:VEVENT
DTSTART;TZID=Europe/Copenhagen:20260328T090000
DTEND;TZID=Europe/Copenhagen:20260328T160000
DTSTAMP:20260425T141524
CREATED:20260213T090641Z
LAST-MODIFIED:20260213T090717Z
UID:10000029-1774688400-1774713600@mnj.dk
SUMMARY:Arbejdsdag på Nysumbanen
DESCRIPTION:Kom og hjælp med at gøre banen klar til første træning
URL:https://mnj.dk/kalender/arbejdsdag-paa-nysumbanen
CATEGORIES:Bane,Bane Arbejdsdag
END:VEVENT
BEGIN:VEVENT
DTSTART;TZID=Europe/Copenhagen:20260328T100000
DTEND;TZID=Europe/Copenhagen:20260328T150000
DTSTAMP:20260425T141524
CREATED:20260321T111624Z
LAST-MODIFIED:20260321T111654Z
UID:10000035-1774692000-1774710000@mnj.dk
SUMMARY:Kursus for officials med 532 og 530.
DESCRIPTION:Kursus for officials med 532 og 530.\n\nAlle med disse licenser skal på kursus\, der må også meget gerne komme ny med.\nTidspunkt: der er 2 datoer at vælge imellem\, nemlig d. 21/3 og 28/3.\nkl. 10 – 15 i Nysum\nTilmelding til Karen Larsen 22579074.\n\n\nDet er meget vigtig at alle som skal være 530 eller 532 i år kommer på kursus.
URL:https://mnj.dk/kalender/kursus-for-officials-med-532-og-530
LOCATION:Nysumbanen\, Nysumgaardvej 8\, Nørager\, Nordjylland\, 9610\, Denmark
CATEGORIES:Bane
END:VEVENT
BEGIN:VEVENT
DTSTART;VALUE=DATE:20260329
DTEND;VALUE=DATE:20260330
DTSTAMP:20260425T141524
CREATED:20260321T113051Z
LAST-MODIFIED:20260321T113051Z
UID:10000040-1774742400-1774828799@mnj.dk
SUMMARY:Førstehjælpskursus
DESCRIPTION:Første hjælps kursus\nAfholdes af DASU.\nTidspunkt kommer senere. Der skal være minimum 8 deltager.\nSted: Nysum\nTilmelding til Karen Larsen 22579074.
URL:https://mnj.dk/kalender/foerstehjaelpskursus
LOCATION:Stuehuset
END:VEVENT
BEGIN:VEVENT
DTSTART;TZID=Europe/Copenhagen:20260402T090000
DTEND;TZID=Europe/Copenhagen:20260402T160000
DTSTAMP:20260425T141524
CREATED:20260213T090811Z
LAST-MODIFIED:20260213T090811Z
UID:10000030-1775120400-1775145600@mnj.dk
SUMMARY:Arbejdsdag på Nysumbanen
DESCRIPTION:Kom og hjælp med at gøre banen klar til første træning
URL:https://mnj.dk/kalender/arbejdsdag-paa-nysumbanen-2
CATEGORIES:Bane,Bane Arbejdsdag
END:VEVENT
BEGIN:VEVENT
DTSTART;TZID=Europe/Copenhagen:20260404T080000
DTEND;TZID=Europe/Copenhagen:20260404T160000
DTSTAMP:20260425T141524
CREATED:20260321T102621Z
LAST-MODIFIED:20260321T165508Z
UID:10000031-1775289600-1775318400@mnj.dk
SUMMARY:Træning RC+CC+CK+FR
DESCRIPTION:Træning på Nysumbanen \nAnsvarlig for træning: Karen Larsen    –    22 57 90 74 \nTeknisk Kontrol: Anders Salomonsen    –    23 23 64 55 \n  \n09:00 – 14:00   –   RC/CC/CK \n11:00 – 16:00   –   FR \n  \nTeknisk Kontrol 30 min før \n  \nPris: \nMedlem af MNJ: 150kr \nIkke Medlem af MNJ: 300 kr
URL:https://mnj.dk/kalender/traening-rcccckfr
LOCATION:Nysumbanen\, Nysumgaardvej 8\, Nørager\, Nordjylland\, 9610\, Denmark
CATEGORIES:Bane Træning,Træningsdag
END:VEVENT
BEGIN:VEVENT
DTSTART;TZID=Europe/Copenhagen:20260411T083000
DTEND;TZID=Europe/Copenhagen:20260411T160000
DTSTAMP:20260425T141524
CREATED:20260321T112334Z
LAST-MODIFIED:20260321T165852Z
UID:10000037-1775896200-1775923200@mnj.dk
SUMMARY:Træning RC+CC+CK+FR
DESCRIPTION:Træning på Nysumbanen \nAnsvarlig for træning: Klaus Knudsen    –    29 69 45 82 \nTeknisk Kontrol: Søren B. Nielsen    –    20 54 35 09 \n  \n09:00 – 14:00   –   RC/CC/CK \n11:00 – 16:00   –   FR \n  \nTeknisk Kontrol 30 min før \n  \nPris: \nMedlem af MNJ: 150kr \nIkke Medlem af MNJ: 300 kr
URL:https://mnj.dk/kalender/traening-rcccckfr-2
LOCATION:Nysumbanen\, Nysumgaardvej 8\, Nørager\, Nordjylland\, 9610\, Denmark
CATEGORIES:Bane Træning
END:VEVENT
BEGIN:VEVENT
DTSTART;TZID=Europe/Copenhagen:20260425T083000
DTEND;TZID=Europe/Copenhagen:20260425T160000
DTSTAMP:20260425T141524
CREATED:20260321T112429Z
LAST-MODIFIED:20260321T170121Z
UID:10000038-1777105800-1777132800@mnj.dk
SUMMARY:Træning RC+CC+CK+FR
DESCRIPTION:Træning på Nysumbanen \nAnsvarlig for træning: Helene J. Nielsen    –    22 27 19 85 \nTeknisk Kontrol: Anders Salomonsen    –    23 23 64 55 \n  \n09:00 – 14:00   –   RC/CC/CK \n11:00 – 16:00   –   FR \n  \nTeknisk Kontrol 30 min før \n  \nPris: \nMedlem af MNJ: 150kr \nIkke Medlem af MNJ: 300 kr
URL:https://mnj.dk/kalender/traening-rcccckfr-3
LOCATION:Nysumbanen\, Nysumgaardvej 8\, Nørager\, Nordjylland\, 9610\, Denmark
CATEGORIES:Bane Træning
END:VEVENT
BEGIN:VEVENT
DTSTART;TZID=Europe/Copenhagen:20260428T170000
DTEND;TZID=Europe/Copenhagen:20260428T200000
DTSTAMP:20260425T141524
CREATED:20260325T231656Z
LAST-MODIFIED:20260325T231712Z
UID:10000047-1777395600-1777406400@mnj.dk
SUMMARY:Bestyrelsesmøde\, MNJ
DESCRIPTION:Alm. bestyrelsesmøde. \nNormal Agenda: \n\nOrientering fra formanden\nØkonomi\nMiljø\n(Særlige emner – agenda justeres inden mødet.)\nBordet rundt – alle udvalg\nEvt.
URL:https://mnj.dk/kalender/bestyrelsesmoede
LOCATION:Stuehuset
CATEGORIES:Bestyrelse
END:VEVENT
BEGIN:VEVENT
DTSTART;TZID=Europe/Copenhagen:20260602T163000
DTEND;TZID=Europe/Copenhagen:20260602T200000
DTSTAMP:20260425T141524
CREATED:20260321T164309Z
LAST-MODIFIED:20260321T170742Z
UID:10000042-1780417800-1780430400@mnj.dk
SUMMARY:Træning FR
DESCRIPTION:Træning på Nysumbanen \nAnsvarlig for træning: Helene J. Nielsen    –    22 27 19 85 \nTeknisk Kontrol: Jesper Sørensen    –    30 62 25 57 \n  \n17:00 – 20:00   –   FR \n  \nTeknisk Kontrol 30 min før \n  \nPris: \nMedlem af MNJ: 100kr \nIkke Medlem af MNJ: 200 kr
URL:https://mnj.dk/kalender/traening-fr
LOCATION:Nysumbanen\, Nysumgaardvej 8\, Nørager\, Nordjylland\, 9610\, Denmark
CATEGORIES:Bane Træning
END:VEVENT
BEGIN:VEVENT
DTSTART;TZID=Europe/Copenhagen:20260616T163000
DTEND;TZID=Europe/Copenhagen:20260616T200000
DTSTAMP:20260425T141524
CREATED:20260321T171043Z
LAST-MODIFIED:20260321T171108Z
UID:10000046-1781627400-1781640000@mnj.dk
SUMMARY:Træning FR
DESCRIPTION:Træning på Nysumbanen \nAnsvarlig for træning: Helene J. Nielsen    –    22 27 19 85 \nTeknisk Kontrol: Jesper Sørensen    –    30 62 25 57 \n  \n17:00 – 20:00   –   FR \n  \nTeknisk Kontrol 30 min før \n  \nPris: \nMedlem af MNJ: 100kr \nIkke Medlem af MNJ: 200 kr
URL:https://mnj.dk/kalender/traening-fr-3
LOCATION:Nysumbanen\, Nysumgaardvej 8\, Nørager\, Nordjylland\, 9610\, Denmark
CATEGORIES:Bane Træning
END:VEVENT
BEGIN:VEVENT
DTSTART;TZID=Europe/Copenhagen:20260630T170000
DTEND;TZID=Europe/Copenhagen:20260630T200000
DTSTAMP:20260425T141524
CREATED:20260321T164350Z
LAST-MODIFIED:20260321T170935Z
UID:10000043-1782838800-1782849600@mnj.dk
SUMMARY:Træning FR
DESCRIPTION:Træning på Nysumbanen \nAnsvarlig for træning: Klaus Knudsen    –    29 69 45 82 \nTeknisk Kontrol: Mathias Knudsen    –    29 82 45 82 \n  \n17:00 – 20:00   –   FR \n  \nTeknisk Kontrol 30 min før \n  \nPris: \nMedlem af MNJ: 100kr \nIkke Medlem af MNJ: 200 kr
URL:https://mnj.dk/kalender/traening-fr-2
LOCATION:Nysumbanen\, Nysumgaardvej 8\, Nørager\, Nordjylland\, 9610\, Denmark
CATEGORIES:Bane Træning
END:VEVENT
BEGIN:VEVENT
DTSTART;TZID=Europe/Copenhagen:20260815T083000
DTEND;TZID=Europe/Copenhagen:20260815T160000
DTSTAMP:20260425T141524
CREATED:20260321T164510Z
LAST-MODIFIED:20260321T170242Z
UID:10000044-1786782600-1786809600@mnj.dk
SUMMARY:Træning RC+CC+CK+FR
DESCRIPTION:Træning på Nysumbanen \nAnsvarlig for træning: Carsten Storgaard    –    40 53 36 08 \nTeknisk Kontrol: Anders Salomonsen    –    23 23 64 55 \n  \n09:00 – 14:00   –   RC/CC/CK \n11:00 – 16:00   –   FR \n  \nTeknisk Kontrol 30 min før \n  \nPris: \nMedlem af MNJ: 150kr \nIkke Medlem af MNJ: 300 kr
URL:https://mnj.dk/kalender/traening-rcccckfr-4
LOCATION:Nysumbanen\, Nysumgaardvej 8\, Nørager\, Nordjylland\, 9610\, Denmark
CATEGORIES:Bane Træning
END:VEVENT
BEGIN:VEVENT
DTSTART;TZID=Europe/Copenhagen:20260905T083000
DTEND;TZID=Europe/Copenhagen:20260905T160000
DTSTAMP:20260425T141524
CREATED:20260321T164608Z
LAST-MODIFIED:20260321T170432Z
UID:10000045-1788597000-1788624000@mnj.dk
SUMMARY:Træning RC+CC+CK+FR
DESCRIPTION:Træning på Nysumbanen \nAnsvarlig for træning: Helene J. Nielsen    –    22 57 90 74 \nTeknisk Kontrol: Jesper Madsen    –    41 43 68 49 \n  \n09:00 – 14:00   –   RC/CC/CK \n11:00 – 16:00   –   FR \n  \nTeknisk Kontrol 30 min før \n  \nPris: \nMedlem af MNJ: 150kr \nIkke Medlem af MNJ: 300 kr
URL:https://mnj.dk/kalender/traening-rcccckfr-5
LOCATION:Nysumbanen\, Nysumgaardvej 8\, Nørager\, Nordjylland\, 9610\, Denmark
CATEGORIES:Bane Træning
END:VEVENT
END:VCALENDAR