BEGIN:VCALENDAR
VERSION:2.0
PRODID:-//Motorsport Nordjylland - ECPv6.15.17.1//NONSGML v1.0//EN
CALSCALE:GREGORIAN
METHOD:PUBLISH
X-WR-CALNAME:Motorsport Nordjylland
X-ORIGINAL-URL:https://mnj.dk
X-WR-CALDESC:Begivenheder for Motorsport Nordjylland
REFRESH-INTERVAL;VALUE=DURATION:PT1H
X-Robots-Tag:noindex
X-PUBLISHED-TTL:PT1H
BEGIN:VTIMEZONE
TZID:Europe/Copenhagen
BEGIN:DAYLIGHT
TZOFFSETFROM:+0100
TZOFFSETTO:+0200
TZNAME:CEST
DTSTART:20240331T010000
END:DAYLIGHT
BEGIN:STANDARD
TZOFFSETFROM:+0200
TZOFFSETTO:+0100
TZNAME:CET
DTSTART:20241027T010000
END:STANDARD
BEGIN:DAYLIGHT
TZOFFSETFROM:+0100
TZOFFSETTO:+0200
TZNAME:CEST
DTSTART:20250330T010000
END:DAYLIGHT
BEGIN:STANDARD
TZOFFSETFROM:+0200
TZOFFSETTO:+0100
TZNAME:CET
DTSTART:20251026T010000
END:STANDARD
BEGIN:DAYLIGHT
TZOFFSETFROM:+0100
TZOFFSETTO:+0200
TZNAME:CEST
DTSTART:20260329T010000
END:DAYLIGHT
BEGIN:STANDARD
TZOFFSETFROM:+0200
TZOFFSETTO:+0100
TZNAME:CET
DTSTART:20261025T010000
END:STANDARD
END:VTIMEZONE
BEGIN:VEVENT
DTSTART;TZID=Europe/Copenhagen:20250222T080000
DTEND;TZID=Europe/Copenhagen:20250222T170000
DTSTAMP:20260423T215042
CREATED:20250220T235635Z
LAST-MODIFIED:20250222T122441Z
UID:10000003-1740211200-1740243600@mnj.dk
SUMMARY:Arbejdsdag\, Banesektionen
DESCRIPTION:ARBEJDSDAG PÅ NYSUMBANEN\nSå er det tid til at vi skal have gjort Nysumbanen klar til sæson 2025. \nVi håber at vejret tillader det og at du/I har lyst til at komme og give en hånd med d. 22/2 og/eller d. 8/3 \n  \nArbejdsopgaver: \n\nNedrivning af kiosk i svinget\nBillet hus laves færdigt\nAutoværn\nTavler sættes op\nTræer/buske skal beskæres\nOg meget mere!\n\n  \nTilmelding til Lærke Cilleborg tlf. 51 81 55 65 \n\n                \n                        \n                            Arbejdsdag\n                             \n                        \n			\n				\n				\n			\n		\n        \n        	Trin 1 af 2\n        	 \n            \n                50%\n            \n                        \n                                    KontaktdetaljerNavn(Påkrævet)\n                            \n                            \n                                                    Fornavn\n                                                    \n                                                \n                            \n                            \n                                                            Efternavn\n                                                            \n                                                        \n                            \n                        Telefon\n                    \n                    \n                          \n                    \n                \n                \n                    \n                        Arbejdsopgave\n								\n								Malerarbejde\n							\n								\n								Oprydning\n							\n								\n								Klargøring af maskiner\n							\n		\n			\n				\n					\n					\n					\n				\n\n				Jeg er ikke en robot\n			\n\n			\n				\n			\n		\n\n		\n          \n            \n            \n\n            \n            \n            \n            \n            \n            \n            \n        \n                        \n                        \n                        \n\n  \nTilmelding for at vi kan sørge for der er nok mad til alle der kommer og giver en hånd med.
URL:https://mnj.dk/kalender/arbejdsdag-banesektionen
LOCATION:Nysumbanen\, Nysumgaardvej 8\, Nørager\, Nordjylland\, 9610\, Denmark
CATEGORIES:Bane Arbejdsdag
END:VEVENT
END:VCALENDAR