BEGIN:VCALENDAR
VERSION:2.0
PRODID:-//Motorsport Nordjylland - ECPv6.15.17.1//NONSGML v1.0//EN
CALSCALE:GREGORIAN
METHOD:PUBLISH
X-ORIGINAL-URL:https://mnj.dk
X-WR-CALDESC:Begivenheder for Motorsport Nordjylland
REFRESH-INTERVAL;VALUE=DURATION:PT1H
X-Robots-Tag:noindex
X-PUBLISHED-TTL:PT1H
BEGIN:VTIMEZONE
TZID:Europe/Copenhagen
BEGIN:DAYLIGHT
TZOFFSETFROM:+0100
TZOFFSETTO:+0200
TZNAME:CEST
DTSTART:19800406T010000
END:DAYLIGHT
BEGIN:STANDARD
TZOFFSETFROM:+0200
TZOFFSETTO:+0100
TZNAME:CET
DTSTART:19800928T010000
END:STANDARD
BEGIN:DAYLIGHT
TZOFFSETFROM:+0100
TZOFFSETTO:+0200
TZNAME:CEST
DTSTART:19810329T010000
END:DAYLIGHT
BEGIN:STANDARD
TZOFFSETFROM:+0200
TZOFFSETTO:+0100
TZNAME:CET
DTSTART:19810927T010000
END:STANDARD
BEGIN:DAYLIGHT
TZOFFSETFROM:+0100
TZOFFSETTO:+0200
TZNAME:CEST
DTSTART:19820328T010000
END:DAYLIGHT
BEGIN:STANDARD
TZOFFSETFROM:+0200
TZOFFSETTO:+0100
TZNAME:CET
DTSTART:19820926T010000
END:STANDARD
BEGIN:DAYLIGHT
TZOFFSETFROM:+0100
TZOFFSETTO:+0200
TZNAME:CEST
DTSTART:19830327T010000
END:DAYLIGHT
BEGIN:STANDARD
TZOFFSETFROM:+0200
TZOFFSETTO:+0100
TZNAME:CET
DTSTART:19830925T010000
END:STANDARD
BEGIN:DAYLIGHT
TZOFFSETFROM:+0100
TZOFFSETTO:+0200
TZNAME:CEST
DTSTART:19840325T010000
END:DAYLIGHT
BEGIN:STANDARD
TZOFFSETFROM:+0200
TZOFFSETTO:+0100
TZNAME:CET
DTSTART:19840930T010000
END:STANDARD
BEGIN:DAYLIGHT
TZOFFSETFROM:+0100
TZOFFSETTO:+0200
TZNAME:CEST
DTSTART:19850331T010000
END:DAYLIGHT
BEGIN:STANDARD
TZOFFSETFROM:+0200
TZOFFSETTO:+0100
TZNAME:CET
DTSTART:19850929T010000
END:STANDARD
BEGIN:DAYLIGHT
TZOFFSETFROM:+0100
TZOFFSETTO:+0200
TZNAME:CEST
DTSTART:19860330T010000
END:DAYLIGHT
BEGIN:STANDARD
TZOFFSETFROM:+0200
TZOFFSETTO:+0100
TZNAME:CET
DTSTART:19860928T010000
END:STANDARD
BEGIN:DAYLIGHT
TZOFFSETFROM:+0100
TZOFFSETTO:+0200
TZNAME:CEST
DTSTART:19870329T010000
END:DAYLIGHT
BEGIN:STANDARD
TZOFFSETFROM:+0200
TZOFFSETTO:+0100
TZNAME:CET
DTSTART:19870927T010000
END:STANDARD
BEGIN:DAYLIGHT
TZOFFSETFROM:+0100
TZOFFSETTO:+0200
TZNAME:CEST
DTSTART:19880327T010000
END:DAYLIGHT
BEGIN:STANDARD
TZOFFSETFROM:+0200
TZOFFSETTO:+0100
TZNAME:CET
DTSTART:19880925T010000
END:STANDARD
BEGIN:DAYLIGHT
TZOFFSETFROM:+0100
TZOFFSETTO:+0200
TZNAME:CEST
DTSTART:19890326T010000
END:DAYLIGHT
BEGIN:STANDARD
TZOFFSETFROM:+0200
TZOFFSETTO:+0100
TZNAME:CET
DTSTART:19890924T010000
END:STANDARD
BEGIN:DAYLIGHT
TZOFFSETFROM:+0100
TZOFFSETTO:+0200
TZNAME:CEST
DTSTART:19900325T010000
END:DAYLIGHT
BEGIN:STANDARD
TZOFFSETFROM:+0200
TZOFFSETTO:+0100
TZNAME:CET
DTSTART:19900930T010000
END:STANDARD
BEGIN:DAYLIGHT
TZOFFSETFROM:+0100
TZOFFSETTO:+0200
TZNAME:CEST
DTSTART:19910331T010000
END:DAYLIGHT
BEGIN:STANDARD
TZOFFSETFROM:+0200
TZOFFSETTO:+0100
TZNAME:CET
DTSTART:19910929T010000
END:STANDARD
BEGIN:DAYLIGHT
TZOFFSETFROM:+0100
TZOFFSETTO:+0200
TZNAME:CEST
DTSTART:19920329T010000
END:DAYLIGHT
BEGIN:STANDARD
TZOFFSETFROM:+0200
TZOFFSETTO:+0100
TZNAME:CET
DTSTART:19920927T010000
END:STANDARD
BEGIN:DAYLIGHT
TZOFFSETFROM:+0100
TZOFFSETTO:+0200
TZNAME:CEST
DTSTART:19930328T010000
END:DAYLIGHT
BEGIN:STANDARD
TZOFFSETFROM:+0200
TZOFFSETTO:+0100
TZNAME:CET
DTSTART:19930926T010000
END:STANDARD
BEGIN:DAYLIGHT
TZOFFSETFROM:+0100
TZOFFSETTO:+0200
TZNAME:CEST
DTSTART:19940327T010000
END:DAYLIGHT
BEGIN:STANDARD
TZOFFSETFROM:+0200
TZOFFSETTO:+0100
TZNAME:CET
DTSTART:19940925T010000
END:STANDARD
BEGIN:DAYLIGHT
TZOFFSETFROM:+0100
TZOFFSETTO:+0200
TZNAME:CEST
DTSTART:19950326T010000
END:DAYLIGHT
BEGIN:STANDARD
TZOFFSETFROM:+0200
TZOFFSETTO:+0100
TZNAME:CET
DTSTART:19950924T010000
END:STANDARD
BEGIN:DAYLIGHT
TZOFFSETFROM:+0100
TZOFFSETTO:+0200
TZNAME:CEST
DTSTART:19960331T010000
END:DAYLIGHT
BEGIN:STANDARD
TZOFFSETFROM:+0200
TZOFFSETTO:+0100
TZNAME:CET
DTSTART:19961027T010000
END:STANDARD
BEGIN:DAYLIGHT
TZOFFSETFROM:+0100
TZOFFSETTO:+0200
TZNAME:CEST
DTSTART:19970330T010000
END:DAYLIGHT
BEGIN:STANDARD
TZOFFSETFROM:+0200
TZOFFSETTO:+0100
TZNAME:CET
DTSTART:19971026T010000
END:STANDARD
BEGIN:DAYLIGHT
TZOFFSETFROM:+0100
TZOFFSETTO:+0200
TZNAME:CEST
DTSTART:19980329T010000
END:DAYLIGHT
BEGIN:STANDARD
TZOFFSETFROM:+0200
TZOFFSETTO:+0100
TZNAME:CET
DTSTART:19981025T010000
END:STANDARD
BEGIN:DAYLIGHT
TZOFFSETFROM:+0100
TZOFFSETTO:+0200
TZNAME:CEST
DTSTART:19990328T010000
END:DAYLIGHT
BEGIN:STANDARD
TZOFFSETFROM:+0200
TZOFFSETTO:+0100
TZNAME:CET
DTSTART:19991031T010000
END:STANDARD
BEGIN:DAYLIGHT
TZOFFSETFROM:+0100
TZOFFSETTO:+0200
TZNAME:CEST
DTSTART:20000326T010000
END:DAYLIGHT
BEGIN:STANDARD
TZOFFSETFROM:+0200
TZOFFSETTO:+0100
TZNAME:CET
DTSTART:20001029T010000
END:STANDARD
BEGIN:DAYLIGHT
TZOFFSETFROM:+0100
TZOFFSETTO:+0200
TZNAME:CEST
DTSTART:20010325T010000
END:DAYLIGHT
BEGIN:STANDARD
TZOFFSETFROM:+0200
TZOFFSETTO:+0100
TZNAME:CET
DTSTART:20011028T010000
END:STANDARD
BEGIN:DAYLIGHT
TZOFFSETFROM:+0100
TZOFFSETTO:+0200
TZNAME:CEST
DTSTART:20020331T010000
END:DAYLIGHT
BEGIN:STANDARD
TZOFFSETFROM:+0200
TZOFFSETTO:+0100
TZNAME:CET
DTSTART:20021027T010000
END:STANDARD
BEGIN:DAYLIGHT
TZOFFSETFROM:+0100
TZOFFSETTO:+0200
TZNAME:CEST
DTSTART:20030330T010000
END:DAYLIGHT
BEGIN:STANDARD
TZOFFSETFROM:+0200
TZOFFSETTO:+0100
TZNAME:CET
DTSTART:20031026T010000
END:STANDARD
BEGIN:DAYLIGHT
TZOFFSETFROM:+0100
TZOFFSETTO:+0200
TZNAME:CEST
DTSTART:20040328T010000
END:DAYLIGHT
BEGIN:STANDARD
TZOFFSETFROM:+0200
TZOFFSETTO:+0100
TZNAME:CET
DTSTART:20041031T010000
END:STANDARD
BEGIN:DAYLIGHT
TZOFFSETFROM:+0100
TZOFFSETTO:+0200
TZNAME:CEST
DTSTART:20050327T010000
END:DAYLIGHT
BEGIN:STANDARD
TZOFFSETFROM:+0200
TZOFFSETTO:+0100
TZNAME:CET
DTSTART:20051030T010000
END:STANDARD
BEGIN:DAYLIGHT
TZOFFSETFROM:+0100
TZOFFSETTO:+0200
TZNAME:CEST
DTSTART:20060326T010000
END:DAYLIGHT
BEGIN:STANDARD
TZOFFSETFROM:+0200
TZOFFSETTO:+0100
TZNAME:CET
DTSTART:20061029T010000
END:STANDARD
BEGIN:DAYLIGHT
TZOFFSETFROM:+0100
TZOFFSETTO:+0200
TZNAME:CEST
DTSTART:20070325T010000
END:DAYLIGHT
BEGIN:STANDARD
TZOFFSETFROM:+0200
TZOFFSETTO:+0100
TZNAME:CET
DTSTART:20071028T010000
END:STANDARD
BEGIN:DAYLIGHT
TZOFFSETFROM:+0100
TZOFFSETTO:+0200
TZNAME:CEST
DTSTART:20080330T010000
END:DAYLIGHT
BEGIN:STANDARD
TZOFFSETFROM:+0200
TZOFFSETTO:+0100
TZNAME:CET
DTSTART:20081026T010000
END:STANDARD
BEGIN:DAYLIGHT
TZOFFSETFROM:+0100
TZOFFSETTO:+0200
TZNAME:CEST
DTSTART:20090329T010000
END:DAYLIGHT
BEGIN:STANDARD
TZOFFSETFROM:+0200
TZOFFSETTO:+0100
TZNAME:CET
DTSTART:20091025T010000
END:STANDARD
BEGIN:DAYLIGHT
TZOFFSETFROM:+0100
TZOFFSETTO:+0200
TZNAME:CEST
DTSTART:20100328T010000
END:DAYLIGHT
BEGIN:STANDARD
TZOFFSETFROM:+0200
TZOFFSETTO:+0100
TZNAME:CET
DTSTART:20101031T010000
END:STANDARD
BEGIN:DAYLIGHT
TZOFFSETFROM:+0100
TZOFFSETTO:+0200
TZNAME:CEST
DTSTART:20110327T010000
END:DAYLIGHT
BEGIN:STANDARD
TZOFFSETFROM:+0200
TZOFFSETTO:+0100
TZNAME:CET
DTSTART:20111030T010000
END:STANDARD
BEGIN:DAYLIGHT
TZOFFSETFROM:+0100
TZOFFSETTO:+0200
TZNAME:CEST
DTSTART:20120325T010000
END:DAYLIGHT
BEGIN:STANDARD
TZOFFSETFROM:+0200
TZOFFSETTO:+0100
TZNAME:CET
DTSTART:20121028T010000
END:STANDARD
BEGIN:DAYLIGHT
TZOFFSETFROM:+0100
TZOFFSETTO:+0200
TZNAME:CEST
DTSTART:20130331T010000
END:DAYLIGHT
BEGIN:STANDARD
TZOFFSETFROM:+0200
TZOFFSETTO:+0100
TZNAME:CET
DTSTART:20131027T010000
END:STANDARD
BEGIN:DAYLIGHT
TZOFFSETFROM:+0100
TZOFFSETTO:+0200
TZNAME:CEST
DTSTART:20140330T010000
END:DAYLIGHT
BEGIN:STANDARD
TZOFFSETFROM:+0200
TZOFFSETTO:+0100
TZNAME:CET
DTSTART:20141026T010000
END:STANDARD
BEGIN:DAYLIGHT
TZOFFSETFROM:+0100
TZOFFSETTO:+0200
TZNAME:CEST
DTSTART:20150329T010000
END:DAYLIGHT
BEGIN:STANDARD
TZOFFSETFROM:+0200
TZOFFSETTO:+0100
TZNAME:CET
DTSTART:20151025T010000
END:STANDARD
BEGIN:DAYLIGHT
TZOFFSETFROM:+0100
TZOFFSETTO:+0200
TZNAME:CEST
DTSTART:20160327T010000
END:DAYLIGHT
BEGIN:STANDARD
TZOFFSETFROM:+0200
TZOFFSETTO:+0100
TZNAME:CET
DTSTART:20161030T010000
END:STANDARD
BEGIN:DAYLIGHT
TZOFFSETFROM:+0100
TZOFFSETTO:+0200
TZNAME:CEST
DTSTART:20170326T010000
END:DAYLIGHT
BEGIN:STANDARD
TZOFFSETFROM:+0200
TZOFFSETTO:+0100
TZNAME:CET
DTSTART:20171029T010000
END:STANDARD
BEGIN:DAYLIGHT
TZOFFSETFROM:+0100
TZOFFSETTO:+0200
TZNAME:CEST
DTSTART:20180325T010000
END:DAYLIGHT
BEGIN:STANDARD
TZOFFSETFROM:+0200
TZOFFSETTO:+0100
TZNAME:CET
DTSTART:20181028T010000
END:STANDARD
BEGIN:DAYLIGHT
TZOFFSETFROM:+0100
TZOFFSETTO:+0200
TZNAME:CEST
DTSTART:20190331T010000
END:DAYLIGHT
BEGIN:STANDARD
TZOFFSETFROM:+0200
TZOFFSETTO:+0100
TZNAME:CET
DTSTART:20191027T010000
END:STANDARD
BEGIN:DAYLIGHT
TZOFFSETFROM:+0100
TZOFFSETTO:+0200
TZNAME:CEST
DTSTART:20200329T010000
END:DAYLIGHT
BEGIN:STANDARD
TZOFFSETFROM:+0200
TZOFFSETTO:+0100
TZNAME:CET
DTSTART:20201025T010000
END:STANDARD
BEGIN:DAYLIGHT
TZOFFSETFROM:+0100
TZOFFSETTO:+0200
TZNAME:CEST
DTSTART:20210328T010000
END:DAYLIGHT
BEGIN:STANDARD
TZOFFSETFROM:+0200
TZOFFSETTO:+0100
TZNAME:CET
DTSTART:20211031T010000
END:STANDARD
BEGIN:DAYLIGHT
TZOFFSETFROM:+0100
TZOFFSETTO:+0200
TZNAME:CEST
DTSTART:20220327T010000
END:DAYLIGHT
BEGIN:STANDARD
TZOFFSETFROM:+0200
TZOFFSETTO:+0100
TZNAME:CET
DTSTART:20221030T010000
END:STANDARD
BEGIN:DAYLIGHT
TZOFFSETFROM:+0100
TZOFFSETTO:+0200
TZNAME:CEST
DTSTART:20230326T010000
END:DAYLIGHT
BEGIN:STANDARD
TZOFFSETFROM:+0200
TZOFFSETTO:+0100
TZNAME:CET
DTSTART:20231029T010000
END:STANDARD
BEGIN:DAYLIGHT
TZOFFSETFROM:+0100
TZOFFSETTO:+0200
TZNAME:CEST
DTSTART:20240331T010000
END:DAYLIGHT
BEGIN:STANDARD
TZOFFSETFROM:+0200
TZOFFSETTO:+0100
TZNAME:CET
DTSTART:20241027T010000
END:STANDARD
BEGIN:DAYLIGHT
TZOFFSETFROM:+0100
TZOFFSETTO:+0200
TZNAME:CEST
DTSTART:20250330T010000
END:DAYLIGHT
BEGIN:STANDARD
TZOFFSETFROM:+0200
TZOFFSETTO:+0100
TZNAME:CET
DTSTART:20251026T010000
END:STANDARD
BEGIN:DAYLIGHT
TZOFFSETFROM:+0100
TZOFFSETTO:+0200
TZNAME:CEST
DTSTART:20260329T010000
END:DAYLIGHT
BEGIN:STANDARD
TZOFFSETFROM:+0200
TZOFFSETTO:+0100
TZNAME:CET
DTSTART:20261025T010000
END:STANDARD
BEGIN:DAYLIGHT
TZOFFSETFROM:+0100
TZOFFSETTO:+0200
TZNAME:CEST
DTSTART:20270328T010000
END:DAYLIGHT
BEGIN:STANDARD
TZOFFSETFROM:+0200
TZOFFSETTO:+0100
TZNAME:CET
DTSTART:20271031T010000
END:STANDARD
END:VTIMEZONE
BEGIN:VEVENT
DTSTART;TZID=Europe/Copenhagen:20260411T083000
DTEND;TZID=Europe/Copenhagen:20260411T160000
DTSTAMP:20260424T014852
CREATED:20260321T112334Z
LAST-MODIFIED:20260321T165852Z
UID:10000037-1775896200-1775923200@mnj.dk
SUMMARY:Træning RC+CC+CK+FR
DESCRIPTION:Træning på Nysumbanen \nAnsvarlig for træning: Klaus Knudsen    –    29 69 45 82 \nTeknisk Kontrol: Søren B. Nielsen    –    20 54 35 09 \n  \n09:00 – 14:00   –   RC/CC/CK \n11:00 – 16:00   –   FR \n  \nTeknisk Kontrol 30 min før \n  \nPris: \nMedlem af MNJ: 150kr \nIkke Medlem af MNJ: 300 kr
URL:https://mnj.dk/kalender/traening-rcccckfr-2
LOCATION:Nysumbanen\, Nysumgaardvej 8\, Nørager\, Nordjylland\, 9610\, Denmark
CATEGORIES:Bane Træning
END:VEVENT
BEGIN:VEVENT
DTSTART;TZID=Europe/Copenhagen:20260404T080000
DTEND;TZID=Europe/Copenhagen:20260404T160000
DTSTAMP:20260424T014852
CREATED:20260321T102621Z
LAST-MODIFIED:20260321T165508Z
UID:10000031-1775289600-1775318400@mnj.dk
SUMMARY:Træning RC+CC+CK+FR
DESCRIPTION:Træning på Nysumbanen \nAnsvarlig for træning: Karen Larsen    –    22 57 90 74 \nTeknisk Kontrol: Anders Salomonsen    –    23 23 64 55 \n  \n09:00 – 14:00   –   RC/CC/CK \n11:00 – 16:00   –   FR \n  \nTeknisk Kontrol 30 min før \n  \nPris: \nMedlem af MNJ: 150kr \nIkke Medlem af MNJ: 300 kr
URL:https://mnj.dk/kalender/traening-rcccckfr
LOCATION:Nysumbanen\, Nysumgaardvej 8\, Nørager\, Nordjylland\, 9610\, Denmark
CATEGORIES:Bane Træning,Træningsdag
END:VEVENT
BEGIN:VEVENT
DTSTART;TZID=Europe/Copenhagen:20260328T100000
DTEND;TZID=Europe/Copenhagen:20260328T150000
DTSTAMP:20260424T014852
CREATED:20260321T111624Z
LAST-MODIFIED:20260321T111654Z
UID:10000035-1774692000-1774710000@mnj.dk
SUMMARY:Kursus for officials med 532 og 530.
DESCRIPTION:Kursus for officials med 532 og 530.\n\nAlle med disse licenser skal på kursus\, der må også meget gerne komme ny med.\nTidspunkt: der er 2 datoer at vælge imellem\, nemlig d. 21/3 og 28/3.\nkl. 10 – 15 i Nysum\nTilmelding til Karen Larsen 22579074.\n\n\nDet er meget vigtig at alle som skal være 530 eller 532 i år kommer på kursus.
URL:https://mnj.dk/kalender/kursus-for-officials-med-532-og-530
LOCATION:Nysumbanen\, Nysumgaardvej 8\, Nørager\, Nordjylland\, 9610\, Denmark
CATEGORIES:Bane
END:VEVENT
BEGIN:VEVENT
DTSTART;TZID=Europe/Copenhagen:20260323T150000
DTEND;TZID=Europe/Copenhagen:20260323T180000
DTSTAMP:20260424T014852
CREATED:20260321T113856Z
LAST-MODIFIED:20260321T114221Z
UID:10000041-1774278000-1774288800@mnj.dk
SUMMARY:Generalforsamling APS
DESCRIPTION:Motorsports Center Nordjylland ApS \nSvenstrup den 10 Februar 2026 \nIndkaldelse til ordinær generalforsamling \n  \nHermed indkaldelse til ordinær generalforsamling i Motorsports Center Nordjylland ApS Mandag den 23 marts kl. 15  på adressen Nysumgårdvej 8 9610 Nørager. \nJfr. Vedtægterne skal indkaldelsen ske med mindst 4 ugers varsel. For god ordens skyld bedes indsigelser mod indkaldelsen meddelt undertegnede inden onsdag den 9 marts 2026 \nDagsorden ifølge vedtægterne: \n\nValg af dirigent.\nDirektionens beretning om selskabets virke i det forløbne år.\nFremlæggelse af årsregnskab til godkendelse.\nBeslutning om anvendelse af overskud eller dækning af tab i henhold til det godkendte regnskab.\nEventuelt forslag til direktionen eller anpartshavere.\nValg af direktion. På valg er Hans Maansen\nValg af revisor.\nEventuel\n\nPå Direktionens vegne. \nSonja Storgaard
URL:https://mnj.dk/kalender/generalforsamling-aps
LOCATION:Nysumbanen\, Nysumgaardvej 8\, Nørager\, Nordjylland\, 9610\, Denmark
CATEGORIES:Aps MSCNJ
END:VEVENT
BEGIN:VEVENT
DTSTART;TZID=Europe/Copenhagen:20260321T100000
DTEND;TZID=Europe/Copenhagen:20260321T150000
DTSTAMP:20260424T014852
CREATED:20260321T111856Z
LAST-MODIFIED:20260321T111856Z
UID:10000036-1774087200-1774105200@mnj.dk
SUMMARY:Kursus for officials med 532 og 530
DESCRIPTION:Kursus for officials med 532 og 530.\n\nAlle med disse licenser skal på kursus\, der må også meget gerne komme ny med.\nTidspunkt: der er 2 datoer at vælge imellem\, nemlig d. 21/3 og 28/3.\nkl. 10 – 15 i Nysum\nTilmelding til Karen Larsen 22579074.\n\n\nDet er meget vigtig at alle som skal være 530 eller 532 i år kommer på kursus.
URL:https://mnj.dk/kalender/kursus-for-officials-med-532-og-530-2
LOCATION:Nysumbanen\, Nysumgaardvej 8\, Nørager\, Nordjylland\, 9610\, Denmark
CATEGORIES:Bane
END:VEVENT
BEGIN:VEVENT
DTSTART;TZID=Europe/Copenhagen:20250405T090000
DTEND;TZID=Europe/Copenhagen:20250405T160000
DTSTAMP:20260424T014852
CREATED:20250221T005829Z
LAST-MODIFIED:20250302T120204Z
UID:10000004-1743843600-1743868800@mnj.dk
SUMMARY:Træning Offroad
DESCRIPTION:RC/CK 9:00-14:00 \nFR 11:00-16:00
URL:https://mnj.dk/kalender/traening-offroad
LOCATION:Nysumbanen\, Nysumgaardvej 8\, Nørager\, Nordjylland\, 9610\, Denmark
CATEGORIES:Bane,Bane Træning
END:VEVENT
BEGIN:VEVENT
DTSTART;TZID=Europe/Copenhagen:20250405T090000
DTEND;TZID=Europe/Copenhagen:20250405T150000
DTSTAMP:20260424T014852
CREATED:20250314T103257Z
LAST-MODIFIED:20250314T103257Z
UID:10000026-1743843600-1743865200@mnj.dk
SUMMARY:Racerskole
DESCRIPTION:Lørdag d. 5 april afholdes der racerskole på Nysumbanen\, med start kl. 9.\nDagen kommer til at veksle mellem teori og praksis\, du skal selv medbringe bil.\nNærmere tidsplan kommer senere\, samt pris.\nTilmelding til Karen Larsen 22579074 eller karenbirkholt@privat.dk
URL:https://mnj.dk/kalender/racerskole
LOCATION:Nysumbanen\, Nysumgaardvej 8\, Nørager\, Nordjylland\, 9610\, Denmark
CATEGORIES:Bane,Bane Træning
END:VEVENT
BEGIN:VEVENT
DTSTART;TZID=Europe/Copenhagen:20250329T090000
DTEND;TZID=Europe/Copenhagen:20250329T160000
DTSTAMP:20260424T014852
CREATED:20250222T143945Z
LAST-MODIFIED:20250302T120230Z
UID:10000009-1743238800-1743264000@mnj.dk
SUMMARY:Træning Offroad
DESCRIPTION:RC/CK 9:00-14:00 \nFR 11:00-16:00
URL:https://mnj.dk/kalender/traening-offroad-3
LOCATION:Nysumbanen\, Nysumgaardvej 8\, Nørager\, Nordjylland\, 9610\, Denmark
CATEGORIES:Bane,Bane Træning
END:VEVENT
BEGIN:VEVENT
DTSTART;TZID=Europe/Copenhagen:20250322T090000
DTEND;TZID=Europe/Copenhagen:20250322T123000
DTSTAMP:20260424T014852
CREATED:20250313T203718Z
LAST-MODIFIED:20250313T203926Z
UID:10000025-1742634000-1742646600@mnj.dk
SUMMARY:Rallyudvalgsmøde / Arbejdsdag
DESCRIPTION:Agenda\n\nRoller i rallyudvalget 2025\n\nLøbsledere\nPrøvechefer\nTovholder for klubmesterskab\nMaterialeansvarlige\nFrivilligeansvarlig/officialkontakt\nØvrigt\n\n\nKlubmesterskab / Samarbejde omkring Nordjysk Cup i klubrallysprint\nLøbskalender (ikke-DSR)\n\n1-2 Klubrallysprint\nLindum Skov Hillclimb & Rallytest\nHerregårdsløbet\n\n\nOprydning i container / depotrum\nPrøvechef kursus del 1\n\nPer\, Aksel\, Jan
URL:https://mnj.dk/kalender/rallyudvalgsmoede-arbejdsdag
LOCATION:Nysumbanen\, Nysumgaardvej 8\, Nørager\, Nordjylland\, 9610\, Denmark
CATEGORIES:Møde,Rally
END:VEVENT
BEGIN:VEVENT
DTSTART;TZID=Europe/Copenhagen:20250308T080000
DTEND;TZID=Europe/Copenhagen:20250308T170000
DTSTAMP:20260424T014852
CREATED:20250220T235513Z
LAST-MODIFIED:20250222T134744Z
UID:10000002-1741420800-1741453200@mnj.dk
SUMMARY:Arbejdsdag\, Banesektionen
DESCRIPTION:ARBEJDSDAG PÅ NYSUMBANEN \nSå er det tid til at vi skal have gjort Nysumbanen klar til sæson 2025. \nVi håber at vejret tillader det og at du/I har lyst til at komme og give en hånd med d. 22/2 og/eller d. 8/3 \n  \nArbejdsopgaver: \n\nNedrivning af kiosk i svinget\nBillet hus laves færdigt\nAutoværn\nTavler sættes op\nTræer/buske skal beskæres\nOg meget mere!\n\n  \nTilmelding til Lærke Cilleborg tlf. 51 81 55 65 \nTilmelding for at vi kan sørge for der er nok mad til alle der kommer og giver en hånd med.
URL:https://mnj.dk/kalender/arbejdsdag-08-03-2025
LOCATION:Nysumbanen\, Nysumgaardvej 8\, Nørager\, Nordjylland\, 9610\, Denmark
CATEGORIES:Bane,Bane Arbejdsdag
END:VEVENT
BEGIN:VEVENT
DTSTART;TZID=Europe/Copenhagen:20250222T080000
DTEND;TZID=Europe/Copenhagen:20250222T170000
DTSTAMP:20260424T014852
CREATED:20250220T235635Z
LAST-MODIFIED:20250222T122441Z
UID:10000003-1740211200-1740243600@mnj.dk
SUMMARY:Arbejdsdag\, Banesektionen
DESCRIPTION:ARBEJDSDAG PÅ NYSUMBANEN\nSå er det tid til at vi skal have gjort Nysumbanen klar til sæson 2025. \nVi håber at vejret tillader det og at du/I har lyst til at komme og give en hånd med d. 22/2 og/eller d. 8/3 \n  \nArbejdsopgaver: \n\nNedrivning af kiosk i svinget\nBillet hus laves færdigt\nAutoværn\nTavler sættes op\nTræer/buske skal beskæres\nOg meget mere!\n\n  \nTilmelding til Lærke Cilleborg tlf. 51 81 55 65 \n\n                \n                        \n                            Arbejdsdag\n                             \n                        \n			\n				\n				\n			\n		\n        \n        	Trin 1 af 2\n        	 \n            \n                50%\n            \n                        \n                                    KontaktdetaljerNavn(Påkrævet)\n                            \n                            \n                                                    Fornavn\n                                                    \n                                                \n                            \n                            \n                                                            Efternavn\n                                                            \n                                                        \n                            \n                        Telefon\n                    \n                    \n                          \n                    \n                \n                \n                    \n                        Arbejdsopgave\n								\n								Malerarbejde\n							\n								\n								Oprydning\n							\n								\n								Klargøring af maskiner\n							\n		\n			\n				\n					\n					\n					\n				\n\n				Jeg er ikke en robot\n			\n\n			\n				\n			\n		\n\n		\n          \n            \n            \n\n            \n            \n            \n            \n            \n            \n            \n        \n                        \n                        \n                        \n\n  \nTilmelding for at vi kan sørge for der er nok mad til alle der kommer og giver en hånd med.
URL:https://mnj.dk/kalender/arbejdsdag-banesektionen
LOCATION:Nysumbanen\, Nysumgaardvej 8\, Nørager\, Nordjylland\, 9610\, Denmark
CATEGORIES:Bane Arbejdsdag
END:VEVENT
BEGIN:VEVENT
DTSTART;TZID=Europe/Copenhagen:20260424T014852
DTEND;TZID=Europe/Copenhagen:20260424T014852
DTSTAMP:20260424T014852
CREATED:20260321T104747Z
LAST-MODIFIED:20260321T104747Z
UID:10000034-0-0@mnj.dk
SUMMARY:Arbejdsdag 28 April
DESCRIPTION:
URL:https://mnj.dk/kalender/arbejdsdag-28-april
LOCATION:Nysumbanen\, Nysumgaardvej 8\, Nørager\, Nordjylland\, 9610\, Denmark
END:VEVENT
BEGIN:VEVENT
DTSTART;TZID=Europe/Copenhagen:20260424T014852
DTEND;TZID=Europe/Copenhagen:20260424T014852
DTSTAMP:20260424T014852
CREATED:20260321T102621Z
LAST-MODIFIED:20260321T112114Z
UID:10000032-0-0@mnj.dk
SUMMARY:Arbejdsdag på Nysumbanen
DESCRIPTION:
URL:https://mnj.dk/kalender/arbejdsdag-paa-nysumbanen-3
LOCATION:Nysumbanen\, Nysumgaardvej 8\, Nørager\, Nordjylland\, 9610\, Denmark
CATEGORIES:Kom og hjælp med at gøre banen klar til første træning
END:VEVENT
END:VCALENDAR