BEGIN:VCALENDAR
VERSION:2.0
PRODID:-//Motorsport Nordjylland - ECPv6.15.17.1//NONSGML v1.0//EN
CALSCALE:GREGORIAN
METHOD:PUBLISH
X-ORIGINAL-URL:https://mnj.dk
X-WR-CALDESC:Begivenheder for Motorsport Nordjylland
REFRESH-INTERVAL;VALUE=DURATION:PT1H
X-Robots-Tag:noindex
X-PUBLISHED-TTL:PT1H
BEGIN:VTIMEZONE
TZID:Europe/Copenhagen
BEGIN:DAYLIGHT
TZOFFSETFROM:+0100
TZOFFSETTO:+0200
TZNAME:CEST
DTSTART:20250330T010000
END:DAYLIGHT
BEGIN:STANDARD
TZOFFSETFROM:+0200
TZOFFSETTO:+0100
TZNAME:CET
DTSTART:20251026T010000
END:STANDARD
BEGIN:DAYLIGHT
TZOFFSETFROM:+0100
TZOFFSETTO:+0200
TZNAME:CEST
DTSTART:20260329T010000
END:DAYLIGHT
BEGIN:STANDARD
TZOFFSETFROM:+0200
TZOFFSETTO:+0100
TZNAME:CET
DTSTART:20261025T010000
END:STANDARD
BEGIN:DAYLIGHT
TZOFFSETFROM:+0100
TZOFFSETTO:+0200
TZNAME:CEST
DTSTART:20270328T010000
END:DAYLIGHT
BEGIN:STANDARD
TZOFFSETFROM:+0200
TZOFFSETTO:+0100
TZNAME:CET
DTSTART:20271031T010000
END:STANDARD
END:VTIMEZONE
BEGIN:VEVENT
DTSTART;TZID=Europe/Copenhagen:20260425T083000
DTEND;TZID=Europe/Copenhagen:20260425T160000
DTSTAMP:20260424T002029
CREATED:20260321T112429Z
LAST-MODIFIED:20260321T170121Z
UID:10000038-1777105800-1777132800@mnj.dk
SUMMARY:Træning RC+CC+CK+FR
DESCRIPTION:Træning på Nysumbanen \nAnsvarlig for træning: Helene J. Nielsen    –    22 27 19 85 \nTeknisk Kontrol: Anders Salomonsen    –    23 23 64 55 \n  \n09:00 – 14:00   –   RC/CC/CK \n11:00 – 16:00   –   FR \n  \nTeknisk Kontrol 30 min før \n  \nPris: \nMedlem af MNJ: 150kr \nIkke Medlem af MNJ: 300 kr
URL:https://mnj.dk/kalender/traening-rcccckfr-3
LOCATION:Nysumbanen\, Nysumgaardvej 8\, Nørager\, Nordjylland\, 9610\, Denmark
CATEGORIES:Bane Træning
END:VEVENT
BEGIN:VEVENT
DTSTART;TZID=Europe/Copenhagen:20260602T163000
DTEND;TZID=Europe/Copenhagen:20260602T200000
DTSTAMP:20260424T002029
CREATED:20260321T164309Z
LAST-MODIFIED:20260321T170742Z
UID:10000042-1780417800-1780430400@mnj.dk
SUMMARY:Træning FR
DESCRIPTION:Træning på Nysumbanen \nAnsvarlig for træning: Helene J. Nielsen    –    22 27 19 85 \nTeknisk Kontrol: Jesper Sørensen    –    30 62 25 57 \n  \n17:00 – 20:00   –   FR \n  \nTeknisk Kontrol 30 min før \n  \nPris: \nMedlem af MNJ: 100kr \nIkke Medlem af MNJ: 200 kr
URL:https://mnj.dk/kalender/traening-fr
LOCATION:Nysumbanen\, Nysumgaardvej 8\, Nørager\, Nordjylland\, 9610\, Denmark
CATEGORIES:Bane Træning
END:VEVENT
BEGIN:VEVENT
DTSTART;TZID=Europe/Copenhagen:20260616T163000
DTEND;TZID=Europe/Copenhagen:20260616T200000
DTSTAMP:20260424T002029
CREATED:20260321T171043Z
LAST-MODIFIED:20260321T171108Z
UID:10000046-1781627400-1781640000@mnj.dk
SUMMARY:Træning FR
DESCRIPTION:Træning på Nysumbanen \nAnsvarlig for træning: Helene J. Nielsen    –    22 27 19 85 \nTeknisk Kontrol: Jesper Sørensen    –    30 62 25 57 \n  \n17:00 – 20:00   –   FR \n  \nTeknisk Kontrol 30 min før \n  \nPris: \nMedlem af MNJ: 100kr \nIkke Medlem af MNJ: 200 kr
URL:https://mnj.dk/kalender/traening-fr-3
LOCATION:Nysumbanen\, Nysumgaardvej 8\, Nørager\, Nordjylland\, 9610\, Denmark
CATEGORIES:Bane Træning
END:VEVENT
BEGIN:VEVENT
DTSTART;TZID=Europe/Copenhagen:20260630T170000
DTEND;TZID=Europe/Copenhagen:20260630T200000
DTSTAMP:20260424T002029
CREATED:20260321T164350Z
LAST-MODIFIED:20260321T170935Z
UID:10000043-1782838800-1782849600@mnj.dk
SUMMARY:Træning FR
DESCRIPTION:Træning på Nysumbanen \nAnsvarlig for træning: Klaus Knudsen    –    29 69 45 82 \nTeknisk Kontrol: Mathias Knudsen    –    29 82 45 82 \n  \n17:00 – 20:00   –   FR \n  \nTeknisk Kontrol 30 min før \n  \nPris: \nMedlem af MNJ: 100kr \nIkke Medlem af MNJ: 200 kr
URL:https://mnj.dk/kalender/traening-fr-2
LOCATION:Nysumbanen\, Nysumgaardvej 8\, Nørager\, Nordjylland\, 9610\, Denmark
CATEGORIES:Bane Træning
END:VEVENT
BEGIN:VEVENT
DTSTART;TZID=Europe/Copenhagen:20260815T083000
DTEND;TZID=Europe/Copenhagen:20260815T160000
DTSTAMP:20260424T002029
CREATED:20260321T164510Z
LAST-MODIFIED:20260321T170242Z
UID:10000044-1786782600-1786809600@mnj.dk
SUMMARY:Træning RC+CC+CK+FR
DESCRIPTION:Træning på Nysumbanen \nAnsvarlig for træning: Carsten Storgaard    –    40 53 36 08 \nTeknisk Kontrol: Anders Salomonsen    –    23 23 64 55 \n  \n09:00 – 14:00   –   RC/CC/CK \n11:00 – 16:00   –   FR \n  \nTeknisk Kontrol 30 min før \n  \nPris: \nMedlem af MNJ: 150kr \nIkke Medlem af MNJ: 300 kr
URL:https://mnj.dk/kalender/traening-rcccckfr-4
LOCATION:Nysumbanen\, Nysumgaardvej 8\, Nørager\, Nordjylland\, 9610\, Denmark
CATEGORIES:Bane Træning
END:VEVENT
BEGIN:VEVENT
DTSTART;TZID=Europe/Copenhagen:20260905T083000
DTEND;TZID=Europe/Copenhagen:20260905T160000
DTSTAMP:20260424T002029
CREATED:20260321T164608Z
LAST-MODIFIED:20260321T170432Z
UID:10000045-1788597000-1788624000@mnj.dk
SUMMARY:Træning RC+CC+CK+FR
DESCRIPTION:Træning på Nysumbanen \nAnsvarlig for træning: Helene J. Nielsen    –    22 57 90 74 \nTeknisk Kontrol: Jesper Madsen    –    41 43 68 49 \n  \n09:00 – 14:00   –   RC/CC/CK \n11:00 – 16:00   –   FR \n  \nTeknisk Kontrol 30 min før \n  \nPris: \nMedlem af MNJ: 150kr \nIkke Medlem af MNJ: 300 kr
URL:https://mnj.dk/kalender/traening-rcccckfr-5
LOCATION:Nysumbanen\, Nysumgaardvej 8\, Nørager\, Nordjylland\, 9610\, Denmark
CATEGORIES:Bane Træning
END:VEVENT
END:VCALENDAR